View In:
ArcGIS JavaScript
ArcGIS Online Map Viewer
ArcGIS Earth
Service Description: Imagens/Sentinel2_MS_2025_1T
Name: Imagens/Sentinel2_MS_2025_1T
Description:
Single Fused Map Cache: false
Extent:
XMin: -58.193492925961486
YMin: -24.09344474066566
XMax: -50.89791517740843
YMax: -17.141472588293254
Spatial Reference: 4674
(4674)
LatestVCSWkid(0)
Initial Extent:
XMin: -58.193492925961486
YMin: -24.09344474066566
XMax: -50.89791517740843
YMax: -17.141472588293254
Spatial Reference: 4674
(4674)
LatestVCSWkid(0)
Full Extent:
XMin: -58.193492925961486
YMin: -24.09344474066566
XMax: -50.89791517740843
YMax: -17.141472588293254
Spatial Reference: 4674
(4674)
LatestVCSWkid(0)
Pixel Size X: 8.983152841324227E-5
Pixel Size Y: 8.983152841324227E-5
Band Count: 5
Pixel Type: S16
RasterFunction Infos: {"rasterFunctionInfos": [
{
"name": "Raster Function Template T1_2025",
"description": "Raster Function Template T1_2025\nRGB483",
"help": ""
},
{
"name": "None",
"description": "",
"help": ""
}
]}
Mensuration Capabilities: Basic
Inspection Capabilities:
Has Histograms: true
Has Colormap: false
Has Multi Dimensions : false
Rendering Rule:
Min Scale: 0
Max Scale: 0
Resampling: false
Copyright Text:
Service Data Type: esriImageServiceDataTypeGeneric
Min Values: 0, 0, 0, 0, 0
Max Values: 17976, 16984, 16728, 15976, 15086
Mean Values: 408.1878697685148, 670.8221066859954, 593.4474779047773, 2927.9255787554935, 1341.4175079344154
Standard Deviation Values: 148.54472040418713, 199.0605149100966, 325.69369363402154, 648.9957664504485, 637.9248691691857
Object ID Field:
Fields:
None
Default Mosaic Method: Center
Allowed Mosaic Methods:
SortField:
SortValue: null
Mosaic Operator: First
Default Compression Quality: 75
Default Resampling Method: Bilinear
Max Record Count: null
Max Image Height: 4100
Max Image Width: 15000
Max Download Image Count: null
Max Mosaic Image Count: null
Allow Raster Function: true
Allow Copy: true
Allow Analysis: true
Allow Compute TiePoints: false
Supports Statistics: false
Supports Advanced Queries: false
Use StandardizedQueries: true
Raster Type Infos:
Name: Raster Dataset
Description: Supports all ArcGIS Raster Datasets
Help:
Has Raster Attribute Table: false
Edit Fields Info: null
Ownership Based AccessControl For Rasters: null
Child Resources:
Info
Histograms
Statistics
Key Properties
Legend
Raster Function Infos
Supported Operations:
Export Image
Identify
Measure
Compute Histograms
Compute Statistics Histograms
Get Samples
Compute Class Statistics
Query Boundary
Compute Pixel Location
Compute Angles
Validate
Project