{
 "currentVersion": 11.5,
 "serviceDescription": "Imagens/Sentinel2_MS_2025_1T",
 "serviceItemId": "778267512e2f4ebd89228e8c01e3d249",
 "name": "Imagens/Sentinel2_MS_2025_1T",
 "description": "",
 "extent": {
  "xmin": -58.193492925961486,
  "ymin": -24.09344474066566,
  "xmax": -50.89791517740843,
  "ymax": -17.141472588293254,
  "spatialReference": {
   "wkid": 4674,
   "latestWkid": 4674
  }
 },
 "initialExtent": {
  "xmin": -58.193492925961486,
  "ymin": -24.09344474066566,
  "xmax": -50.89791517740843,
  "ymax": -17.141472588293254,
  "spatialReference": {
   "wkid": 4674,
   "latestWkid": 4674
  }
 },
 "fullExtent": {
  "xmin": -58.193492925961486,
  "ymin": -24.09344474066566,
  "xmax": -50.89791517740843,
  "ymax": -17.141472588293254,
  "spatialReference": {
   "wkid": 4674,
   "latestWkid": 4674
  }
 },
 "sortableFields": "",
 "bandCount": 5,
 "pixelType": "S16",
 "minValues": [
  0,
  0,
  0,
  0,
  0
 ],
 "maxValues": [
  17976,
  16984,
  16728,
  15976,
  15086
 ],
 "meanValues": [
  408.1878697685148,
  670.8221066859954,
  593.4474779047773,
  2927.9255787554935,
  1341.4175079344154
 ],
 "stdvValues": [
  148.54472040418713,
  199.0605149100966,
  325.69369363402154,
  648.9957664504485,
  637.9248691691857
 ],
 "serviceProperties": "Center<\/MosaicMethod>First<\/MosaicOperator>true<\/SortAscending><\/LockImageID><\/TileOrderField>0<\/TileOrderBase>0.000000<\/AvgImageSpacingX>0.000000<\/AvgImageSpacingY>0.0<\/ViewPointX>0.0<\/ViewPointY>0.0<\/ViewPointDefShiftX>0.0<\/ViewPointDefShiftY>None<\/CompressionMethod>75<\/CompressionQuality>0.010000<\/CompressionTolerance>Bilinear<\/SamplingMethod><\/ImageServiceProperties><\/ImageServer>",
 "allowedFields": "",
 "hasMultidimensions": false,
 "pixelSizeX": 8.983152841324227E-5,
 "pixelSizeY": 8.983152841324227E-5,
 "meanPixelSize": 10.000000000143615,
 "datasetFormat": "FGDBR",
 "uncompressedSize": 62850702460,
 "blockWidth": 128,
 "blockHeight": 128,
 "compressionType": "NONE",
 "bandNames": [
  "Band_1",
  "Band_2",
  "Band_3",
  "Band_4",
  "Band_5"
 ],
 "allowCopy": true,
 "allowAnalysis": true,
 "itemAccess": false,
 "inspectionCapabilities": "",
 "minPixelSize": 0,
 "maxPixelSize": 0,
 "copyrightText": "",
 "serviceDataType": "esriImageServiceDataTypeGeneric",
 "serviceSourceType": "esriImageServiceSourceTypeDataset",
 "objectIdField": "",
 "fields": [],
 "capabilities": "Mensuration,Image,Metadata",
 "defaultMosaicMethod": "Center",
 "allowedMosaicMethods": "",
 "sortField": "",
 "sortValue": null,
 "sortAscending": true,
 "mosaicOperator": "First",
 "defaultCompressionQuality": 75,
 "defaultResamplingMethod": "Bilinear",
 "maxImageHeight": 4100,
 "maxImageWidth": 15000,
 "allowRasterFunction": true,
 "rasterFunctionInfos": [
  {
   "name": "Raster Function Template T1_2025",
   "description": "Raster Function Template T1_2025\nRGB483",
   "help": ""
  },
  {
   "name": "None",
   "description": "",
   "help": ""
  }
 ],
 "rasterTypeInfos": [
  {
   "name": "Raster Dataset",
   "description": "Supports all ArcGIS Raster Datasets",
   "help": ""
  }
 ],
 "mensurationCapabilities": "Basic",
 "hasHistograms": true,
 "hasColormap": false,
 "hasRasterAttributeTable": false,
 "minScale": 0,
 "maxScale": 0,
 "exportTilesAllowed": false,
 "supportsStatistics": false,
 "supportsAdvancedQueries": false,
 "editFieldsInfo": null,
 "ownershipBasedAccessControlForRasters": null,
 "allowComputeTiePoints": false,
 "useStandardizedQueries": true,
 "advancedQueryCapabilities": {
  "useStandardizedQueries": true,
  "supportsStatistics": false,
  "supportsOrderBy": false,
  "supportsDistinct": false,
  "supportsPagination": false
 },
 "spatialReference": {
  "wkid": 4674,
  "latestWkid": 4674
 },
 "resampling": false
}
