View In:
ArcGIS JavaScript
ArcGIS Online Map Viewer
ArcGIS Earth
Service Description: Imagens/Sentinel2_MS_2023_4T
Name: Imagens/Sentinel2_MS_2023_4T
Description:
Single Fused Map Cache: false
Extent:
XMin: -58.1935827574899
YMin: -24.093534572312862
XMax: -50.897915177513205
YMax: -17.141472588511885
Spatial Reference: 4674
(4674)
LatestVCSWkid(0)
Initial Extent:
XMin: -58.1935827574899
YMin: -24.093534572312862
XMax: -50.897915177513205
YMax: -17.141472588511885
Spatial Reference: 4674
(4674)
LatestVCSWkid(0)
Full Extent:
XMin: -58.1935827574899
YMin: -24.093534572312862
XMax: -50.897915177513205
YMax: -17.141472588511885
Spatial Reference: 4674
(4674)
LatestVCSWkid(0)
Pixel Size X: 8.983152841195215E-5
Pixel Size Y: 8.983152841195215E-5
Band Count: 4
Pixel Type: S16
RasterFunction Infos: {"rasterFunctionInfos": [
{
"name": "Sentinel2_MS_2023_4T",
"description": "A raster function template.",
"help": ""
},
{
"name": "None",
"description": "",
"help": ""
}
]}
Mensuration Capabilities: Basic
Inspection Capabilities:
Has Histograms: true
Has Colormap: false
Has Multi Dimensions : false
Rendering Rule:
Min Scale: 0
Max Scale: 0
Resampling: false
Copyright Text:
Service Data Type: esriImageServiceDataTypeGeneric
Min Values: 1, 1, 285, 296
Max Values: 19720, 18768, 18096, 16944
Mean Values: 1572.4007211538599, 1844.0929082485602, 1883.3143111495576, 3906.0886618850623
Standard Deviation Values: 186.73064569909073, 220.8841653613049, 417.02007073732744, 572.1416560033631
Object ID Field:
Fields:
None
Default Mosaic Method: Center
Allowed Mosaic Methods:
SortField:
SortValue: null
Mosaic Operator: First
Default Compression Quality: 75
Default Resampling Method: Bilinear
Max Record Count: null
Max Image Height: 4100
Max Image Width: 15000
Max Download Image Count: null
Max Mosaic Image Count: null
Allow Raster Function: true
Allow Copy: false
Allow Analysis: true
Allow Compute TiePoints: false
Supports Statistics: false
Supports Advanced Queries: false
Use StandardizedQueries: true
Raster Type Infos:
Name: Raster Dataset
Description: Supports all ArcGIS Raster Datasets
Help:
Has Raster Attribute Table: false
Edit Fields Info: null
Ownership Based AccessControl For Rasters: null
Child Resources:
Info
Histograms
Statistics
Key Properties
Legend
Raster Function Infos
Supported Operations:
Export Image
Identify
Measure
Compute Histograms
Compute Statistics Histograms
Get Samples
Compute Class Statistics
Query Boundary
Compute Pixel Location
Compute Angles
Validate
Project