{
 "currentVersion": 11.5,
 "serviceDescription": "Imagens/Sentinel2_MS_2023_4T",
 "serviceItemId": "c992870a0dbc427493a7ba2ffa3abcb1",
 "name": "Imagens/Sentinel2_MS_2023_4T",
 "description": "",
 "extent": {
  "xmin": -58.1935827574899,
  "ymin": -24.093534572312862,
  "xmax": -50.897915177513205,
  "ymax": -17.141472588511885,
  "spatialReference": {
   "wkid": 4674,
   "latestWkid": 4674
  }
 },
 "initialExtent": {
  "xmin": -58.1935827574899,
  "ymin": -24.093534572312862,
  "xmax": -50.897915177513205,
  "ymax": -17.141472588511885,
  "spatialReference": {
   "wkid": 4674,
   "latestWkid": 4674
  }
 },
 "fullExtent": {
  "xmin": -58.1935827574899,
  "ymin": -24.093534572312862,
  "xmax": -50.897915177513205,
  "ymax": -17.141472588511885,
  "spatialReference": {
   "wkid": 4674,
   "latestWkid": 4674
  }
 },
 "sortableFields": "",
 "bandCount": 4,
 "pixelType": "S16",
 "minValues": [
  1,
  1,
  285,
  296
 ],
 "maxValues": [
  19720,
  18768,
  18096,
  16944
 ],
 "meanValues": [
  1572.4007211538599,
  1844.0929082485602,
  1883.3143111495576,
  3906.0886618850623
 ],
 "stdvValues": [
  186.73064569909073,
  220.8841653613049,
  417.02007073732744,
  572.1416560033631
 ],
 "serviceProperties": "Center<\/MosaicMethod>First<\/MosaicOperator>true<\/SortAscending><\/LockImageID><\/TileOrderField>0<\/TileOrderBase>0.000000<\/AvgImageSpacingX>0.000000<\/AvgImageSpacingY>0.0<\/ViewPointX>0.0<\/ViewPointY>0.0<\/ViewPointDefShiftX>0.0<\/ViewPointDefShiftY>None<\/CompressionMethod>75<\/CompressionQuality>0.010000<\/CompressionTolerance>Bilinear<\/SamplingMethod><\/ImageServiceProperties><\/ImageServer>",
 "allowedFields": "",
 "hasMultidimensions": false,
 "pixelSizeX": 8.983152841195215E-5,
 "pixelSizeY": 8.983152841195215E-5,
 "meanPixelSize": 10,
 "datasetFormat": "FGDBR",
 "uncompressedSize": 50281830800,
 "blockWidth": 128,
 "blockHeight": 128,
 "compressionType": "LZ77",
 "bandNames": [
  "Band_1",
  "Band_2",
  "Band_3",
  "Band_4"
 ],
 "allowCopy": false,
 "allowAnalysis": true,
 "itemAccess": false,
 "inspectionCapabilities": "",
 "minPixelSize": 0,
 "maxPixelSize": 0,
 "copyrightText": "",
 "serviceDataType": "esriImageServiceDataTypeGeneric",
 "serviceSourceType": "esriImageServiceSourceTypeDataset",
 "objectIdField": "",
 "fields": [],
 "capabilities": "Mensuration,Image,Metadata",
 "defaultMosaicMethod": "Center",
 "allowedMosaicMethods": "",
 "sortField": "",
 "sortValue": null,
 "sortAscending": true,
 "mosaicOperator": "First",
 "defaultCompressionQuality": 75,
 "defaultResamplingMethod": "Bilinear",
 "maxImageHeight": 4100,
 "maxImageWidth": 15000,
 "allowRasterFunction": true,
 "rasterFunctionInfos": [
  {
   "name": "Sentinel2_MS_2023_4T",
   "description": "A raster function template.",
   "help": ""
  },
  {
   "name": "None",
   "description": "",
   "help": ""
  }
 ],
 "rasterTypeInfos": [
  {
   "name": "Raster Dataset",
   "description": "Supports all ArcGIS Raster Datasets",
   "help": ""
  }
 ],
 "mensurationCapabilities": "Basic",
 "hasHistograms": true,
 "hasColormap": false,
 "hasRasterAttributeTable": false,
 "minScale": 0,
 "maxScale": 0,
 "exportTilesAllowed": false,
 "supportsStatistics": false,
 "supportsAdvancedQueries": false,
 "editFieldsInfo": null,
 "ownershipBasedAccessControlForRasters": null,
 "allowComputeTiePoints": false,
 "useStandardizedQueries": true,
 "advancedQueryCapabilities": {
  "useStandardizedQueries": true,
  "supportsStatistics": false,
  "supportsOrderBy": false,
  "supportsDistinct": false,
  "supportsPagination": false
 },
 "spatialReference": {
  "wkid": 4674,
  "latestWkid": 4674
 },
 "resampling": false
}
