View In:
ArcGIS JavaScript
ArcGIS Online Map Viewer
ArcGIS Earth
Service Description: Imagens/mos_MS_S2SR_2025_trim_2_10m
Name: Imagens/mos_MS_S2SR_2025_trim_2_10m
Description:
Single Fused Map Cache: false
Extent:
XMin: -58.18792337119994
YMin: -24.08670737615355
XMax: -50.90384405838839
YMax: -17.148209953142775
Spatial Reference: 4326
(4326)
LatestVCSWkid(0)
Initial Extent:
XMin: -58.18792337119994
YMin: -24.08670737615355
XMax: -50.90384405838839
YMax: -17.148209953142775
Spatial Reference: 4326
(4326)
LatestVCSWkid(0)
Full Extent:
XMin: -58.18792337119994
YMin: -24.08670737615355
XMax: -50.90384405838839
YMax: -17.148209953142775
Spatial Reference: 4326
(4326)
LatestVCSWkid(0)
Pixel Size X: 8.98315284119522E-5
Pixel Size Y: 8.98315284119522E-5
Band Count: 3
Pixel Type: U8
RasterFunction Infos: {"rasterFunctionInfos": [
{
"name": "rft_sentinel2_2025_2t.rft",
"description": "rft_sentinel2_2025_2t.rft_Standard_Deviation",
"help": ""
},
{
"name": "None",
"description": "",
"help": ""
}
]}
Mensuration Capabilities: Basic
Inspection Capabilities:
Has Histograms: true
Has Colormap: false
Has Multi Dimensions : false
Rendering Rule:
Min Scale: 0
Max Scale: 0
Copyright Text:
Service Data Type: esriImageServiceDataTypeRGB
Min Values: 0, 0, 0
Max Values: 255, 255, 255
Mean Values: 49.494924702608465, 55.31862569449881, 31.79947603704113
Standard Deviation Values: 28.950346876810404, 18.363920654415733, 12.723081753430765
Object ID Field:
Fields:
None
Default Mosaic Method: Center
Allowed Mosaic Methods:
SortField:
SortValue: null
Mosaic Operator: First
Default Compression Quality: 75
Default Resampling Method: Bilinear
Max Record Count: null
Max Image Height: 4100
Max Image Width: 15000
Max Download Image Count: null
Max Mosaic Image Count: null
Allow Raster Function: true
Allow Copy: true
Allow Analysis: true
Allow Compute TiePoints: false
Supports Statistics: false
Supports Advanced Queries: false
Use StandardizedQueries: true
Raster Type Infos:
Name: Raster Dataset
Description: Supports all ArcGIS Raster Datasets
Help:
Has Raster Attribute Table: false
Edit Fields Info: null
Ownership Based AccessControl For Rasters: null
Child Resources:
Info
Histograms
Statistics
Key Properties
Legend
Raster Function Infos
Supported Operations:
Export Image
Identify
Measure
Compute Histograms
Compute Statistics Histograms
Get Samples
Compute Class Statistics
Query Boundary
Compute Pixel Location
Compute Angles
Validate
Project