View In:
ArcGIS JavaScript
ArcGIS Online Map Viewer
ArcGIS Earth
Service Description: Mosaico de Delividade MS
Name: Imagens/fusao_declividade_graus
Description: Mosaico de Delividade MS
Single Fused Map Cache: false
Extent:
XMin: -58.31218618
YMin: -24.086279797
XMax: -50.922912833
YMax: -17.090060503
Spatial Reference: 4674
(4674)
LatestVCSWkid(0)
Initial Extent:
XMin: -58.31218618
YMin: -24.086279797
XMax: -50.922912833
YMax: -17.090060503
Spatial Reference: 4674
(4674)
LatestVCSWkid(0)
Full Extent:
XMin: -58.31218618
YMin: -24.086279797
XMax: -50.922912833
YMax: -17.090060503
Spatial Reference: 4674
(4674)
LatestVCSWkid(0)
Pixel Size X: 2.6945532388870653E-4
Pixel Size Y: 2.694584537821599E-4
Band Count: 1
Pixel Type: F32
RasterFunction Infos: {"rasterFunctionInfos": [
{
"name": "Classified",
"description": "A raster function template.",
"help": ""
},
{
"name": "None",
"description": "",
"help": ""
}
]}
Mensuration Capabilities: Basic
Inspection Capabilities:
Has Histograms: true
Has Colormap: false
Has Multi Dimensions : false
Rendering Rule:
Min Scale: 0
Max Scale: 0
Resampling: false
Copyright Text:
Service Data Type: esriImageServiceDataTypeGeneric
Min Values: 0
Max Values: 5
Mean Values: 0.7034909325781942
Standard Deviation Values: 0.6633561108267135
Object ID Field:
Fields:
None
Default Mosaic Method: Center
Allowed Mosaic Methods:
SortField:
SortValue: null
Mosaic Operator: First
Default Compression Quality: 75
Default Resampling Method: Bilinear
Max Record Count: null
Max Image Height: 4100
Max Image Width: 15000
Max Download Image Count: null
Max Mosaic Image Count: null
Allow Raster Function: true
Allow Copy: true
Allow Analysis: true
Allow Compute TiePoints: false
Supports Statistics: false
Supports Advanced Queries: false
Use StandardizedQueries: true
Raster Type Infos:
Name: Raster Dataset
Description: Supports all ArcGIS Raster Datasets
Help:
Has Raster Attribute Table: false
Edit Fields Info: null
Ownership Based AccessControl For Rasters: null
Child Resources:
Info
Histograms
Statistics
Key Properties
Legend
Raster Function Infos
Supported Operations:
Export Image
Identify
Measure
Compute Histograms
Compute Statistics Histograms
Get Samples
Compute Class Statistics
Query Boundary
Compute Pixel Location
Compute Angles
Validate
Project