View In:
ArcGIS JavaScript
ArcGIS Online Map Viewer
ArcGIS Earth
Service Description: Imagens/Sentinel2_MS_2024_3T
Name: Imagens/Sentinel2_MS_2024_3T
Description:
Single Fused Map Cache: false
Extent:
XMin: -58.193492925961486
YMin: -24.09344474066566
XMax: -50.89791517740843
YMax: -17.141472588293254
Spatial Reference: 4674
(4674)
LatestVCSWkid(0)
Initial Extent:
XMin: -58.193492925961486
YMin: -24.09344474066566
XMax: -50.89791517740843
YMax: -17.141472588293254
Spatial Reference: 4674
(4674)
LatestVCSWkid(0)
Full Extent:
XMin: -58.193492925961486
YMin: -24.09344474066566
XMax: -50.89791517740843
YMax: -17.141472588293254
Spatial Reference: 4674
(4674)
LatestVCSWkid(0)
Pixel Size X: 8.983152841324227E-5
Pixel Size Y: 8.983152841324227E-5
Band Count: 5
Pixel Type: S16
RasterFunction Infos: {"rasterFunctionInfos": [
{
"name": "rft_rgb483_grf",
"description": "RGB342_in_arcgispro_RGB483_true",
"help": ""
},
{
"name": "None",
"description": "",
"help": ""
}
]}
Mensuration Capabilities: Basic
Inspection Capabilities:
Has Histograms: true
Has Colormap: false
Has Multi Dimensions : false
Rendering Rule:
Min Scale: 0
Max Scale: 0
Copyright Text:
Service Data Type: esriImageServiceDataTypeGeneric
Min Values: 0, 0, 0, 0, 0
Max Values: 13860, 13033, 15056, 13956, 12629
Mean Values: 543.0934038960029, 768.9857010452836, 996.7940373825635, 2351.018507029293, 1963.2830172974623
Standard Deviation Values: 183.65732049890653, 240.34459304045626, 452.9060868038703, 513.1024091852869, 836.0013888990402
Object ID Field:
Fields:
None
Default Mosaic Method: Center
Allowed Mosaic Methods:
SortField:
SortValue: null
Mosaic Operator: First
Default Compression Quality: 75
Default Resampling Method: Bilinear
Max Record Count: null
Max Image Height: 4100
Max Image Width: 15000
Max Download Image Count: null
Max Mosaic Image Count: null
Allow Raster Function: true
Allow Copy: true
Allow Analysis: true
Allow Compute TiePoints: false
Supports Statistics: false
Supports Advanced Queries: false
Use StandardizedQueries: true
Raster Type Infos:
Name: Raster Dataset
Description: Supports all ArcGIS Raster Datasets
Help:
Has Raster Attribute Table: false
Edit Fields Info: null
Ownership Based AccessControl For Rasters: null
Child Resources:
Info
Histograms
Statistics
Key Properties
Legend
Raster Function Infos
Supported Operations:
Export Image
Identify
Measure
Compute Histograms
Compute Statistics Histograms
Get Samples
Compute Class Statistics
Query Boundary
Compute Pixel Location
Compute Angles
Validate
Project