View In:
ArcGIS JavaScript
ArcGIS Online Map Viewer
ArcGIS Earth
Service Description: Imagens/Sentinel2_MS_2024_2T
Name: Imagens/Sentinel2_MS_2024_2T
Description:
Single Fused Map Cache: false
Extent:
XMin: -58.193492925961486
YMin: -24.09344474078445
XMax: -50.897915177513205
YMax: -17.141472588511885
Spatial Reference: 4674
(4674)
LatestVCSWkid(0)
Initial Extent:
XMin: -58.193492925961486
YMin: -24.09344474078445
XMax: -50.897915177513205
YMax: -17.141472588511885
Spatial Reference: 4674
(4674)
LatestVCSWkid(0)
Full Extent:
XMin: -58.193492925961486
YMin: -24.09344474078445
XMax: -50.897915177513205
YMax: -17.141472588511885
Spatial Reference: 4674
(4674)
LatestVCSWkid(0)
Pixel Size X: 8.983152841195213E-5
Pixel Size Y: 8.983152841195213E-5
Band Count: 5
Pixel Type: U16
RasterFunction Infos: {"rasterFunctionInfos": [
{
"name": "Sentinel2_MS_2024_2T",
"description": "A raster function template.",
"help": ""
},
{
"name": "None",
"description": "",
"help": ""
}
]}
Mensuration Capabilities: Basic
Inspection Capabilities:
Has Histograms: true
Has Colormap: false
Has Multi Dimensions : false
Rendering Rule:
Min Scale: 0
Max Scale: 0
Resampling: false
Copyright Text:
Service Data Type: esriImageServiceDataTypeGeneric
Min Values: 1, 1, 1, 1, 1
Max Values: 17640, 16920, 16328, 15592, 15092
Mean Values: 357.86832600181185, 592.8067935416415, 599.5008189254091, 2591.197260490546, 1339.4619440806734
Standard Deviation Values: 141.84957845098256, 195.04067801253504, 334.62899619050944, 564.635102943655, 675.2861234434854
Object ID Field:
Fields:
None
Default Mosaic Method: Center
Allowed Mosaic Methods:
SortField:
SortValue: null
Mosaic Operator: First
Default Compression Quality: 75
Default Resampling Method: Bilinear
Max Record Count: null
Max Image Height: 4100
Max Image Width: 15000
Max Download Image Count: null
Max Mosaic Image Count: null
Allow Raster Function: true
Allow Copy: true
Allow Analysis: true
Allow Compute TiePoints: false
Supports Statistics: false
Supports Advanced Queries: false
Use StandardizedQueries: true
Raster Type Infos:
Name: Raster Dataset
Description: Supports all ArcGIS Raster Datasets
Help:
Has Raster Attribute Table: false
Edit Fields Info: null
Ownership Based AccessControl For Rasters: null
Child Resources:
Info
Histograms
Statistics
Key Properties
Legend
Raster Function Infos
Supported Operations:
Export Image
Identify
Measure
Compute Histograms
Compute Statistics Histograms
Get Samples
Compute Class Statistics
Query Boundary
Compute Pixel Location
Compute Angles
Validate
Project