View In:
ArcGIS JavaScript
ArcGIS Online Map Viewer
ArcGIS Earth
Service Description: Mosaico Sentinel2 MS 2022
Name: Imagens/Sentinel2_MS_2022
Description: Mosaico Sentinel2 MS 2022
Single Fused Map Cache: false
Extent:
XMin: -58.254116164
YMin: -24.501767588
XMax: -50.904381902
YMax: -17.083589549
Spatial Reference: 4674
(4674)
LatestVCSWkid(0)
Initial Extent:
XMin: -58.254116164
YMin: -24.501767588
XMax: -50.904381902
YMax: -17.083589549
Spatial Reference: 4674
(4674)
LatestVCSWkid(0)
Full Extent:
XMin: -58.254116164
YMin: -24.501767588
XMax: -50.904381902
YMax: -17.083589549
Spatial Reference: 4674
(4674)
LatestVCSWkid(0)
Pixel Size X: 9.592949595384784E-5
Pixel Size Y: 9.033339063565515E-5
Band Count: 3
Pixel Type: U8
RasterFunction Infos: {"rasterFunctionInfos": [
{
"name": "Sentinel",
"description": "A raster function template.",
"help": ""
},
{
"name": "None",
"description": "",
"help": ""
}
]}
Mensuration Capabilities: Basic
Inspection Capabilities:
Has Histograms: true
Has Colormap: false
Has Multi Dimensions : false
Rendering Rule:
Min Scale: 0
Max Scale: 0
Resampling: false
Copyright Text:
Service Data Type: esriImageServiceDataTypeThematic
Min Values: 1, 1, 1
Max Values: 255, 255, 255
Mean Values: 27.46851966127744, 58.74342916643071, 22.146685638873347
Standard Deviation Values: 11.2347123711544, 13.711834648047153, 6.726589539569266
Object ID Field:
Fields:
None
Default Mosaic Method: Center
Allowed Mosaic Methods:
SortField:
SortValue: null
Mosaic Operator: First
Default Compression Quality: 75
Default Resampling Method: Bilinear
Max Record Count: null
Max Image Height: 4100
Max Image Width: 15000
Max Download Image Count: null
Max Mosaic Image Count: null
Allow Raster Function: true
Allow Copy: true
Allow Analysis: true
Allow Compute TiePoints: false
Supports Statistics: false
Supports Advanced Queries: false
Use StandardizedQueries: true
Raster Type Infos:
Name: Raster Dataset
Description: Supports all ArcGIS Raster Datasets
Help:
Has Raster Attribute Table: false
Edit Fields Info: null
Ownership Based AccessControl For Rasters: null
Child Resources:
Info
Histograms
Statistics
Key Properties
Legend
Raster Function Infos
Supported Operations:
Export Image
Identify
Measure
Compute Histograms
Compute Statistics Histograms
Get Samples
Compute Class Statistics
Query Boundary
Compute Pixel Location
Compute Angles
Validate
Project