View In:
ArcGIS JavaScript
ArcGIS Online Map Viewer
ArcGIS Earth
Service Description: Mosaico Sentinel2 MS 2022
Name: Imagens/Sentinel2_MS_2021
Description: Mosaico Sentinel2 MS 2022
Single Fused Map Cache: false
Extent:
XMin: -58.973624223
YMin: -24.501720889
XMax: -50.904267825
YMax: -16.246135896
Spatial Reference: 4674
(4674)
LatestVCSWkid(0)
Initial Extent:
XMin: -58.973624223
YMin: -24.501720889
XMax: -50.904267825
YMax: -16.246135896
Spatial Reference: 4674
(4674)
LatestVCSWkid(0)
Full Extent:
XMin: -58.973624223
YMin: -24.501720889
XMax: -50.904267825
YMax: -16.246135896
Spatial Reference: 4674
(4674)
LatestVCSWkid(0)
Pixel Size X: 9.155781421471853E-5
Pixel Size Y: 9.155781422455863E-5
Band Count: 3
Pixel Type: U8
RasterFunction Infos: {"rasterFunctionInfos": [
{
"name": "Sentinel2021",
"description": "A raster function template.",
"help": ""
},
{
"name": "None",
"description": "",
"help": ""
}
]}
Mensuration Capabilities: Basic
Inspection Capabilities:
Has Histograms: true
Has Colormap: false
Has Multi Dimensions : false
Rendering Rule:
Min Scale: 0
Max Scale: 0
Resampling: false
Copyright Text:
Service Data Type: esriImageServiceDataTypeRGB
Min Values: 1, 1, 1
Max Values: 255, 255, 255
Mean Values: 56.452527666038954, 99.09773976177047, 51.817753772889766
Standard Deviation Values: 29.393256310462593, 29.830978019849336, 29.39265253369941
Object ID Field:
Fields:
None
Default Mosaic Method: Center
Allowed Mosaic Methods:
SortField:
SortValue: null
Mosaic Operator: First
Default Compression Quality: 75
Default Resampling Method: Bilinear
Max Record Count: null
Max Image Height: 4100
Max Image Width: 15000
Max Download Image Count: null
Max Mosaic Image Count: null
Allow Raster Function: true
Allow Copy: true
Allow Analysis: true
Allow Compute TiePoints: false
Supports Statistics: false
Supports Advanced Queries: false
Use StandardizedQueries: true
Raster Type Infos:
Name: Raster Dataset
Description: Supports all ArcGIS Raster Datasets
Help:
Has Raster Attribute Table: false
Edit Fields Info: null
Ownership Based AccessControl For Rasters: null
Child Resources:
Info
Histograms
Statistics
Key Properties
Legend
Raster Function Infos
Supported Operations:
Export Image
Identify
Measure
Compute Histograms
Compute Statistics Histograms
Get Samples
Compute Class Statistics
Query Boundary
Compute Pixel Location
Compute Angles
Validate
Project