View In:
ArcGIS JavaScript
ArcGIS Online Map Viewer
ArcGIS Earth
Service Description: Imagens/OrtoMosaico_Teste
Name: Imagens/OrtoMosaico_Teste
Description:
Single Fused Map Cache: false
Extent:
XMin: -53.0005439799279
YMin: -18.401579441465977
XMax: -52.9481435940279
YMax: -18.355362508445978
Spatial Reference: 0
(0)
LatestVCSWkid(0)
Initial Extent:
XMin: -53.0005439799279
YMin: -18.401579441465977
XMax: -52.9481435940279
YMax: -18.355362508445978
Spatial Reference: 0
(0)
LatestVCSWkid(0)
Full Extent:
XMin: -53.0005439799279
YMin: -18.401579441465977
XMax: -52.9481435940279
YMax: -18.355362508445978
Spatial Reference: 0
(0)
LatestVCSWkid(0)
Pixel Size X: 1.1519100000000089E-6
Pixel Size Y: 1.1519099999999604E-6
Band Count: 3
Pixel Type: U8
RasterFunction Infos: {"rasterFunctionInfos": [{
"name": "None",
"description": "",
"help": ""
}]}
Mensuration Capabilities: Basic
Inspection Capabilities:
Has Histograms: true
Has Colormap: false
Has Multi Dimensions : false
Rendering Rule:
Min Scale: 0
Max Scale: 0
Resampling: false
Copyright Text:
Service Data Type: esriImageServiceDataTypeRGB
Min Values: 0, 0, 0
Max Values: 255, 255, 255
Mean Values: 172.1460850488036, 164.02995389287437, 142.60821379282476
Standard Deviation Values: 60.43188150322159, 63.65533477350631, 77.06895513494511
Object ID Field:
Fields:
None
Default Mosaic Method: Center
Allowed Mosaic Methods:
SortField:
SortValue: null
Mosaic Operator: First
Default Compression Quality: 75
Default Resampling Method: Bilinear
Max Record Count: null
Max Image Height: 4100
Max Image Width: 15000
Max Download Image Count: null
Max Mosaic Image Count: null
Allow Raster Function: true
Allow Copy: true
Allow Analysis: true
Allow Compute TiePoints: false
Supports Statistics: false
Supports Advanced Queries: false
Use StandardizedQueries: true
Raster Type Infos:
Name: Raster Dataset
Description: Supports all ArcGIS Raster Datasets
Help:
Has Raster Attribute Table: false
Edit Fields Info: null
Ownership Based AccessControl For Rasters: null
Child Resources:
Info
Histograms
Statistics
Key Properties
Legend
Raster Function Infos
Supported Operations:
Export Image
Identify
Measure
Compute Histograms
Compute Statistics Histograms
Get Samples
Compute Class Statistics
Query Boundary
Compute Pixel Location
Compute Angles
Validate
Project