View In:
ArcGIS JavaScript
ArcGIS Online Map Viewer
ArcGIS Earth
Service Description: Imagens/Mask_mos_MS_S2SR_uint8_2026_trim_2
Name: Imagens/Mask_mos_MS_S2SR_uint8_2026_trim_2
Description:
Single Fused Map Cache: false
Extent:
XMin: -58.18792337119989
YMin: -24.086707376153555
XMax: -50.90384405838839
YMax: -17.148209953142825
Spatial Reference: 4326
(4326)
LatestVCSWkid(0)
Initial Extent:
XMin: -58.18792337119989
YMin: -24.086707376153555
XMax: -50.90384405838839
YMax: -17.148209953142825
Spatial Reference: 4326
(4326)
LatestVCSWkid(0)
Full Extent:
XMin: -58.18792337119989
YMin: -24.086707376153555
XMax: -50.90384405838839
YMax: -17.148209953142825
Spatial Reference: 4326
(4326)
LatestVCSWkid(0)
Pixel Size X: 8.983152841195159E-5
Pixel Size Y: 8.98315284119516E-5
Band Count: 3
Pixel Type: U8
RasterFunction Infos: {"rasterFunctionInfos": [
{
"name": "rft_2026T1",
"description": "rft_2026T1",
"help": ""
},
{
"name": "None",
"description": "",
"help": ""
}
]}
Mensuration Capabilities: Basic
Inspection Capabilities:
Has Histograms: true
Has Colormap: false
Has Multi Dimensions : false
Rendering Rule:
Min Scale: 0
Max Scale: 0
Resampling: false
Copyright Text:
Service Data Type: esriImageServiceDataTypeRGB
Min Values: 0, 0, 0
Max Values: 255, 255, 255
Mean Values: 49.12124983178917, 54.385369717477694, 31.02132206975398
Standard Deviation Values: 29.661080170571736, 18.32137059771468, 12.851560231401157
Object ID Field:
Fields:
None
Default Mosaic Method: Center
Allowed Mosaic Methods:
SortField:
SortValue: null
Mosaic Operator: First
Default Compression Quality: 75
Default Resampling Method: Bilinear
Max Record Count: null
Max Image Height: 4100
Max Image Width: 15000
Max Download Image Count: null
Max Mosaic Image Count: null
Allow Raster Function: true
Allow Copy: true
Allow Analysis: true
Allow Compute TiePoints: false
Supports Statistics: false
Supports Advanced Queries: false
Use StandardizedQueries: true
Raster Type Infos:
Name: Raster Dataset
Description: Supports all ArcGIS Raster Datasets
Help:
Has Raster Attribute Table: false
Edit Fields Info: null
Ownership Based AccessControl For Rasters: null
Child Resources:
Info
Histograms
Statistics
Key Properties
Legend
Raster Function Infos
Supported Operations:
Export Image
Identify
Measure
Compute Histograms
Compute Statistics Histograms
Get Samples
Compute Class Statistics
Query Boundary
Compute Pixel Location
Compute Angles
Validate
Project