View In:
ArcGIS JavaScript
ArcGIS Online Map Viewer
ArcGIS Earth
Service Description: Imagens/Landsat_5_antes_2008_upscaling8x_v2
Name: Imagens/Landsat_5_antes_2008_upscaling8x_v2
Description:
Single Fused Map Cache: false
Extent:
XMin: -58.20721523785699
YMin: -24.097596523259423
XMax: -50.72885996714574
YMax: -17.075559402415788
Spatial Reference: 4326
(4326)
LatestVCSWkid(0)
Initial Extent:
XMin: -58.20721523785699
YMin: -24.097596523259423
XMax: -50.72885996714574
YMax: -17.075559402415788
Spatial Reference: 4326
(4326)
LatestVCSWkid(0)
Full Extent:
XMin: -58.20721523785699
YMin: -24.097596523259423
XMax: -50.72885996714574
YMax: -17.075559402415788
Spatial Reference: 4326
(4326)
LatestVCSWkid(0)
Pixel Size X: 3.494280954649049E-5
Pixel Size Y: 3.4942809546490484E-5
Band Count: 3
Pixel Type: U8
RasterFunction Infos: {"rasterFunctionInfos": [
{
"name": "Landsat5_2008_Display_background Value 0",
"description": "Landsat5_2008_Display_background Value 0",
"help": ""
},
{
"name": "None",
"description": "",
"help": ""
}
]}
Mensuration Capabilities: Basic
Inspection Capabilities:
Has Histograms: true
Has Colormap: false
Has Multi Dimensions : false
Rendering Rule:
Min Scale: 0
Max Scale: 0
Resampling: false
Copyright Text:
Service Data Type: esriImageServiceDataTypeRGB
Min Values: 0, 0, 0
Max Values: 255, 255, 253
Mean Values: 37.839902714346, 34.041081684881, 24.94980178439
Standard Deviation Values: 43.126596692716, 34.617912736149, 24.407403960022
Object ID Field:
Fields:
None
Default Mosaic Method: Center
Allowed Mosaic Methods:
SortField:
SortValue: null
Mosaic Operator: First
Default Compression Quality: 75
Default Resampling Method: Bilinear
Max Record Count: null
Max Image Height: 4100
Max Image Width: 15000
Max Download Image Count: null
Max Mosaic Image Count: null
Allow Raster Function: true
Allow Copy: true
Allow Analysis: true
Allow Compute TiePoints: false
Supports Statistics: false
Supports Advanced Queries: false
Use StandardizedQueries: true
Raster Type Infos:
Name: Raster Dataset
Description: Supports all ArcGIS Raster Datasets
Help:
Has Raster Attribute Table: false
Edit Fields Info: null
Ownership Based AccessControl For Rasters: null
Child Resources:
Info
Histograms
Statistics
Key Properties
Legend
Raster Function Infos
Supported Operations:
Export Image
Identify
Measure
Compute Histograms
Compute Statistics Histograms
Get Samples
Compute Class Statistics
Query Boundary
Compute Pixel Location
Compute Angles
Validate
Project