View In:
ArcGIS JavaScript
ArcGIS Online Map Viewer
ArcGIS Earth
Service Description: LandSat8_MS_2020
Name: Imagens/LandSat8_MS_Atualizada
Description: LandSat8_MS_2020
Single Fused Map Cache: false
Extent:
XMin: -6477434.36239612
YMin: -2763979.303799935
XMax: -5666580.393585587
YMax: -1938087.2466231985
Spatial Reference: 102100
(3857)
LatestVCSWkid(0)
Initial Extent:
XMin: -6477434.36239612
YMin: -2763979.303799935
XMax: -5666580.393585587
YMax: -1938087.2466231985
Spatial Reference: 102100
(3857)
LatestVCSWkid(0)
Full Extent:
XMin: -6477434.36239612
YMin: -2763979.303799935
XMax: -5666580.393585587
YMax: -1938087.2466231985
Spatial Reference: 102100
(3857)
LatestVCSWkid(0)
Pixel Size X: 15.610757552857654
Pixel Size Y: 15.610757552857654
Band Count: 3
Pixel Type: U8
RasterFunction Infos: {"rasterFunctionInfos": [
{
"name": "LandSat8_MS_2020_RGB Composite",
"description": "A raster function template.",
"help": ""
},
{
"name": "None",
"description": "",
"help": ""
}
]}
Mensuration Capabilities: Basic
Inspection Capabilities:
Has Histograms: true
Has Colormap: false
Has Multi Dimensions : false
Rendering Rule:
Min Scale: 0
Max Scale: 0
Resampling: false
Copyright Text:
Service Data Type: esriImageServiceDataTypeRGB
Min Values: 0, 0, 0
Max Values: 254, 244, 254
Mean Values: 63.333584003136636, 66.18497095358946, 41.685926373165
Standard Deviation Values: 12.625046059175105, 8.584868268560056, 7.988985125429696
Object ID Field:
Fields:
None
Default Mosaic Method: Center
Allowed Mosaic Methods:
SortField:
SortValue: null
Mosaic Operator: First
Default Compression Quality: 75
Default Resampling Method: Bilinear
Max Record Count: null
Max Image Height: 4100
Max Image Width: 15000
Max Download Image Count: null
Max Mosaic Image Count: null
Allow Raster Function: true
Allow Copy: true
Allow Analysis: true
Allow Compute TiePoints: false
Supports Statistics: false
Supports Advanced Queries: false
Use StandardizedQueries: true
Raster Type Infos:
Name: Raster Dataset
Description: Supports all ArcGIS Raster Datasets
Help:
Has Raster Attribute Table: false
Edit Fields Info: null
Ownership Based AccessControl For Rasters: null
Child Resources:
Info
Histograms
Statistics
Key Properties
Legend
Raster Function Infos
Supported Operations:
Export Image
Identify
Measure
Compute Histograms
Compute Statistics Histograms
Get Samples
Compute Class Statistics
Query Boundary
Compute Pixel Location
Compute Angles
Validate
Project