View In:
ArcGIS JavaScript
ArcGIS Online Map Viewer
ArcGIS Earth
Service Description: LandSat8_MS_2019
Name: Imagens/LandSat8_MS_2019
Description: LandSat8_MS_2019
Single Fused Map Cache: false
Extent:
XMin: -58.18851306845078
YMin: -24.088523179230965
XMax: -50.9028709230228
YMax: -17.14632018467393
Spatial Reference: 4674
(4674)
LatestVCSWkid(0)
Initial Extent:
XMin: -58.18851306845078
YMin: -24.088523179230965
XMax: -50.9028709230228
YMax: -17.14632018467393
Spatial Reference: 4674
(4674)
LatestVCSWkid(0)
Full Extent:
XMin: -58.18851306845078
YMin: -24.088523179230965
XMax: -50.9028709230228
YMax: -17.14632018467393
Spatial Reference: 4674
(4674)
LatestVCSWkid(0)
Pixel Size X: 1.4339839284799297E-4
Pixel Size Y: 1.4339839284799297E-4
Band Count: 3
Pixel Type: U16
RasterFunction Infos: {"rasterFunctionInfos": [{
"name": "None",
"description": "",
"help": ""
}]}
Mensuration Capabilities: Basic
Inspection Capabilities:
Has Histograms: true
Has Colormap: false
Has Multi Dimensions : false
Rendering Rule:
Min Scale: 0
Max Scale: 0
Resampling: false
Copyright Text:
Service Data Type: esriImageServiceDataTypeGeneric
Min Values: 6953, 6953, 0
Max Values: 23546, 23546, 23546
Mean Values: 13960.274332225626, 14502.662994476364, 9100.403065427483
Standard Deviation Values: 2860.8571316788984, 1496.3711902387101, 1028.1953643751942
Object ID Field:
Fields:
None
Default Mosaic Method: Center
Allowed Mosaic Methods:
SortField:
SortValue: null
Mosaic Operator: First
Default Compression Quality: 75
Default Resampling Method: Bilinear
Max Record Count: null
Max Image Height: 4100
Max Image Width: 15000
Max Download Image Count: null
Max Mosaic Image Count: null
Allow Raster Function: true
Allow Copy: true
Allow Analysis: true
Allow Compute TiePoints: false
Supports Statistics: false
Supports Advanced Queries: false
Use StandardizedQueries: true
Raster Type Infos:
Name: Raster Dataset
Description: Supports all ArcGIS Raster Datasets
Help:
Has Raster Attribute Table: false
Edit Fields Info: null
Ownership Based AccessControl For Rasters: null
Child Resources:
Info
Histograms
Statistics
Key Properties
Legend
Raster Function Infos
Supported Operations:
Export Image
Identify
Measure
Compute Histograms
Compute Statistics Histograms
Get Samples
Compute Class Statistics
Query Boundary
Compute Pixel Location
Compute Angles
Validate
Project