View In:
ArcGIS JavaScript
ArcGIS Online Map Viewer
ArcGIS Earth
Service Description: Imagens/LandSat8_MS_2016
Name: Imagens/LandSat8_MS_2016
Description:
Single Fused Map Cache: false
Extent:
XMin: -6940138.201682137
YMin: -2993197.590590409
XMax: -5196093.636558693
YMax: -1799709.8309472762
Spatial Reference: 102100
(3857)
LatestVCSWkid(0)
Initial Extent:
XMin: -6940138.201682137
YMin: -2993197.590590409
XMax: -5196093.636558693
YMax: -1799709.8309472762
Spatial Reference: 102100
(3857)
LatestVCSWkid(0)
Full Extent:
XMin: -6940138.201682137
YMin: -2993197.590590409
XMax: -5196093.636558693
YMax: -1799709.8309472762
Spatial Reference: 102100
(3857)
LatestVCSWkid(0)
Pixel Size X: 19.109257071268306
Pixel Size Y: 19.1092570712683
Band Count: 3
Pixel Type: U8
RasterFunction Infos: {"rasterFunctionInfos": [{
"name": "None",
"description": "",
"help": ""
}]}
Mensuration Capabilities: Basic
Inspection Capabilities:
Has Histograms: true
Has Colormap: false
Has Multi Dimensions : false
Rendering Rule:
Min Scale: 0
Max Scale: 0
Resampling: false
Copyright Text:
Service Data Type: esriImageServiceDataTypeRGB
Min Values: 0, 0, 0
Max Values: 255, 255, 255
Mean Values: 138.47696628405203, 163.7593125756728, 72.07003090894088
Standard Deviation Values: 52.44139937726169, 46.079094608914296, 52.26150903031223
Object ID Field:
Fields:
None
Default Mosaic Method: Center
Allowed Mosaic Methods:
SortField:
SortValue: null
Mosaic Operator: First
Default Compression Quality: 75
Default Resampling Method: Bilinear
Max Record Count: null
Max Image Height: 4100
Max Image Width: 15000
Max Download Image Count: null
Max Mosaic Image Count: null
Allow Raster Function: true
Allow Copy: true
Allow Analysis: true
Allow Compute TiePoints: false
Supports Statistics: false
Supports Advanced Queries: false
Use StandardizedQueries: true
Raster Type Infos:
Name: Raster Dataset
Description: Supports all ArcGIS Raster Datasets
Help:
Has Raster Attribute Table: false
Edit Fields Info: null
Ownership Based AccessControl For Rasters: null
Child Resources:
Info
Histograms
Statistics
Key Properties
Legend
Raster Function Infos
Supported Operations:
Export Image
Identify
Measure
Compute Histograms
Compute Statistics Histograms
Get Samples
Compute Class Statistics
Query Boundary
Compute Pixel Location
Compute Angles
Validate
Project