View In:
ArcGIS JavaScript
ArcGIS Online Map Viewer
ArcGIS Earth
Service Description: Imagens/LandSat5_MS_2008
Name: Imagens/LandSat5_MS_2008
Description:
Single Fused Map Cache: false
Extent:
XMin: -6987261.629619883
YMin: -2999006.804740075
XMax: -5277747.492024221
YMax: -1793212.683543045
Spatial Reference: 102100
(3857)
LatestVCSWkid(0)
Initial Extent:
XMin: -6987261.629619883
YMin: -2999006.804740075
XMax: -5277747.492024221
YMax: -1793212.683543045
Spatial Reference: 102100
(3857)
LatestVCSWkid(0)
Full Extent:
XMin: -6987261.629619883
YMin: -2999006.804740075
XMax: -5277747.492024221
YMax: -1793212.683543045
Spatial Reference: 102100
(3857)
LatestVCSWkid(0)
Pixel Size X: 76.4370282850732
Pixel Size Y: 76.43702828507321
Band Count: 3
Pixel Type: U8
RasterFunction Infos: {"rasterFunctionInfos": [{
"name": "None",
"description": "",
"help": ""
}]}
Mensuration Capabilities: Basic
Inspection Capabilities:
Has Histograms: true
Has Colormap: false
Has Multi Dimensions : false
Rendering Rule:
Min Scale: 0
Max Scale: 0
Resampling: false
Copyright Text:
Service Data Type: esriImageServiceDataTypeRGB
Min Values: 0, 0, 0
Max Values: 255, 255, 255
Mean Values: 136.83995385941276, 134.1540691337389, 65.34973230958802
Standard Deviation Values: 37.60097403483698, 36.01798001942296, 36.728420417178995
Object ID Field:
Fields:
None
Default Mosaic Method: Center
Allowed Mosaic Methods:
SortField:
SortValue: null
Mosaic Operator: First
Default Compression Quality: 75
Default Resampling Method: Bilinear
Max Record Count: null
Max Image Height: 4100
Max Image Width: 15000
Max Download Image Count: null
Max Mosaic Image Count: null
Allow Raster Function: true
Allow Copy: true
Allow Analysis: true
Allow Compute TiePoints: false
Supports Statistics: false
Supports Advanced Queries: false
Use StandardizedQueries: true
Raster Type Infos:
Name: Raster Dataset
Description: Supports all ArcGIS Raster Datasets
Help:
Has Raster Attribute Table: false
Edit Fields Info: null
Ownership Based AccessControl For Rasters: null
Child Resources:
Info
Histograms
Statistics
Key Properties
Legend
Raster Function Infos
Supported Operations:
Export Image
Identify
Measure
Compute Histograms
Compute Statistics Histograms
Get Samples
Compute Class Statistics
Query Boundary
Compute Pixel Location
Compute Angles
Validate
Project