<?xml version="1.0" encoding="UTF-8" standalone="no"?>
<metadata xml:lang="pt">
  <Esri>
    <CreaDate>20250703</CreaDate>
    <CreaTime>05254100</CreaTime>
    <ArcGISFormat>1.0</ArcGISFormat>
    <SyncOnce>FALSE</SyncOnce>
    <DataProperties>
      <itemProps>
        <itemName Sync="TRUE">SentinelMS_2025_1T_Clip</itemName>
        <imsContentType Sync="TRUE">002</imsContentType>
        <nativeExtBox>
          <westBL Sync="TRUE">-58.187856</westBL>
          <eastBL Sync="TRUE">-50.903844</eastBL>
          <southBL Sync="TRUE">-24.086640</southBL>
          <northBL Sync="TRUE">-17.148255</northBL>
          <exTypeCode Sync="TRUE">1</exTypeCode>
        </nativeExtBox>
        <itemLocation>
          <linkage Sync="TRUE">file://\\AAMSGI75053SEF\G$\SentinelMS_2025.gdb</linkage>
          <protocol Sync="TRUE">Local Area Network</protocol>
        </itemLocation>
      </itemProps>
      <coordRef>
        <type Sync="TRUE">Geographic</type>
        <geogcsn Sync="TRUE">GCS_SIRGAS_2000</geogcsn>
        <csUnits Sync="TRUE">Angular Unit: Degree (0.017453)</csUnits>
        <peXml Sync="TRUE">&lt;GeographicCoordinateSystem xsi:type='typens:GeographicCoordinateSystem' xmlns:xsi='http://www.w3.org/2001/XMLSchema-instance' xmlns:xs='http://www.w3.org/2001/XMLSchema' xmlns:typens='http://www.esri.com/schemas/ArcGIS/3.2.0'&gt;&lt;WKT&gt;GEOGCS[&amp;quot;GCS_SIRGAS_2000&amp;quot;,DATUM[&amp;quot;D_SIRGAS_2000&amp;quot;,SPHEROID[&amp;quot;GRS_1980&amp;quot;,6378137.0,298.257222101]],PRIMEM[&amp;quot;Greenwich&amp;quot;,0.0],UNIT[&amp;quot;Degree&amp;quot;,0.0174532925199433],AUTHORITY[&amp;quot;EPSG&amp;quot;,4674]]&lt;/WKT&gt;&lt;XOrigin&gt;-400&lt;/XOrigin&gt;&lt;YOrigin&gt;-400&lt;/YOrigin&gt;&lt;XYScale&gt;11258999068426.238&lt;/XYScale&gt;&lt;ZOrigin&gt;-100000&lt;/ZOrigin&gt;&lt;ZScale&gt;10000&lt;/ZScale&gt;&lt;MOrigin&gt;-100000&lt;/MOrigin&gt;&lt;MScale&gt;10000&lt;/MScale&gt;&lt;XYTolerance&gt;8.983152841195215e-09&lt;/XYTolerance&gt;&lt;ZTolerance&gt;0.001&lt;/ZTolerance&gt;&lt;MTolerance&gt;0.001&lt;/MTolerance&gt;&lt;HighPrecision&gt;true&lt;/HighPrecision&gt;&lt;LeftLongitude&gt;-180&lt;/LeftLongitude&gt;&lt;WKID&gt;4674&lt;/WKID&gt;&lt;LatestWKID&gt;4674&lt;/LatestWKID&gt;&lt;/GeographicCoordinateSystem&gt;</peXml>
      </coordRef>
      <lineage>
        <Process Date="20250703" Time="072942" ToolSource="c:\program files\arcgis\pro\Resources\ArcToolbox\toolboxes\Data Management Tools.tbx\Clip">Clip mos_MS_S2SR_uint8_2025_trim_1_ver_4-final.tif "-58,187852449331 -24,0866407673575 -50,9038482752777 -17,148277013873" G:\SentinelMS_2025.gdb\SentinelMS_2025_1T_Clip MS_UF_2023_Buffer_2KM 256 ClippingGeometry NO_MAINTAIN_EXTENT</Process>
        <Process Date="20250703" Time="101838" ToolSource="c:\program files\arcgis\pro\Resources\ArcToolbox\toolboxes\Data Management Tools.tbx\Rename">Rename G:\SentinelMS_2025.gdb\SentinelMS_2025_1T_Clip G:\SentinelMS_2025.gdb\SentinelMS_2025_1T RasterDataset</Process>
        <Process Date="20250703" Time="105748" ToolSource="c:\program files\arcgis\pro\Resources\ArcToolbox\Toolboxes\Data Management Tools.tbx\Rename">Rename G:\SentinelMS_2025.gdb\SentinelMS_2025_1T G:\SentinelMS_2025.gdb\Sentinel2_MS_2025_1T_ RasterDataset</Process>
        <Process Date="20250703" Time="110058" ToolSource="c:\program files\arcgis\pro\Resources\ArcToolbox\Toolboxes\Data Management Tools.tbx\Rename">Rename G:\SentinelMS_2025.gdb\Sentinel2_MS_2025_1T_ G:\SentinelMS_2025.gdb\Sentinel2_MS_2025_1T RasterDataset</Process>
        <Process Date="20250703" Time="110235" ToolSource="c:\program files\arcgis\pro\Resources\ArcToolbox\Toolboxes\Data Management Tools.tbx\Rename">Rename G:\SentinelMS_2025.gdb\Sentinel2_MS_2025_1T G:\SentinelMS_2025.gdb\Sentinel2_MS_2025_1T_SR RasterDataset</Process>
      </lineage>
    </DataProperties>
    <SyncDate>20250703</SyncDate>
    <SyncTime>05254100</SyncTime>
    <ModDate>20250703</ModDate>
    <ModTime>05254100</ModTime>
  </Esri>
  <dataIdInfo>
    <envirDesc Sync="TRUE">Microsoft Windows 10 Version 10.0 (Build 19045) ; Esri ArcGIS 13.2.0.49743</envirDesc>
    <dataLang>
      <languageCode Sync="TRUE" value="por"/>
      <countryCode Sync="TRUE" value="BRA"/>
    </dataLang>
    <idCitation>
      <resTitle Sync="TRUE">Sentinel2_MS_2025_1T_SR</resTitle>
      <presForm>
        <PresFormCd Sync="TRUE" value="011"/>
      </presForm>
    </idCitation>
    <spatRpType>
      <SpatRepTypCd Sync="TRUE" value="002"/>
    </spatRpType>
    <dataExt>
      <geoEle>
        <GeoBndBox esriExtentType="search">
          <exTypeCode Sync="TRUE">1</exTypeCode>
          <westBL Sync="TRUE">-58.187856</westBL>
          <eastBL Sync="TRUE">-50.903844</eastBL>
          <northBL Sync="TRUE">-17.148255</northBL>
          <southBL Sync="TRUE">-24.086640</southBL>
        </GeoBndBox>
      </geoEle>
    </dataExt>
    <idAbs/>
    <searchKeys>
      <keyword>sentinel2</keyword>
    </searchKeys>
    <idPurp>Mosaico de Imagens de Satélite Sentinel 2, 1º Trimestre 2025. Super Resolution.</idPurp>
    <idCredit/>
    <resConst>
      <Consts>
        <useLimit/>
      </Consts>
    </resConst>
  </dataIdInfo>
  <mdLang>
    <languageCode Sync="TRUE" value="por"/>
    <countryCode Sync="TRUE" value="BRA"/>
  </mdLang>
  <distInfo>
    <distFormat>
      <formatName Sync="TRUE">File Geodatabase Raster Dataset</formatName>
    </distFormat>
  </distInfo>
  <mdHrLv>
    <ScopeCd Sync="TRUE" value="005"/>
  </mdHrLv>
  <mdHrLvName Sync="TRUE">dataset</mdHrLvName>
  <refSysInfo>
    <RefSystem>
      <refSysID>
        <identCode Sync="TRUE" code="4674"/>
        <idCodeSpace Sync="TRUE">EPSG</idCodeSpace>
        <idVersion Sync="TRUE">6.11(9.2.0)</idVersion>
      </refSysID>
    </RefSystem>
  </refSysInfo>
  <spdoinfo>
    <rastinfo>
      <rasttype Sync="TRUE">Pixel</rasttype>
      <rowcount Sync="TRUE">308951</rowcount>
      <colcount Sync="TRUE">324341</colcount>
      <rastxsz Sync="TRUE">0,000022</rastxsz>
      <rastysz Sync="TRUE">0,000022</rastysz>
      <rastbpp Sync="TRUE">8</rastbpp>
      <vrtcount Sync="TRUE">1</vrtcount>
      <rastorig Sync="TRUE">Upper Left</rastorig>
      <rastcmap Sync="TRUE">FALSE</rastcmap>
      <rastcomp Sync="TRUE">LZ77</rastcomp>
      <rastband Sync="TRUE">3</rastband>
      <rastdtyp Sync="TRUE">pixel codes</rastdtyp>
      <rastifor Sync="TRUE">FGDBR</rastifor>
      <rastplyr Sync="TRUE">TRUE</rastplyr>
    </rastinfo>
  </spdoinfo>
  <spref>
    <horizsys>
      <planar>
        <planci>
          <plance Sync="TRUE">row and column</plance>
          <coordrep>
            <absres Sync="TRUE">0,000022</absres>
            <ordres Sync="TRUE">0,000022</ordres>
          </coordrep>
        </planci>
      </planar>
    </horizsys>
  </spref>
  <mdDateSt Sync="TRUE">20250703</mdDateSt>
</metadata>
