{
 "currentVersion": 11.5,
 "serviceDescription": "Imagens/Sentinel2_MS_2024_4T",
 "serviceItemId": "bd1354724963466ca8b1b9f4272df5cf",
 "name": "Imagens/Sentinel2_MS_2024_4T",
 "description": "",
 "extent": {
  "xmin": -58.193492925961486,
  "ymin": -24.09344474066566,
  "xmax": -50.89791517740843,
  "ymax": -17.141472588293254,
  "spatialReference": {
   "wkid": 4674,
   "latestWkid": 4674
  }
 },
 "initialExtent": {
  "xmin": -58.193492925961486,
  "ymin": -24.09344474066566,
  "xmax": -50.89791517740843,
  "ymax": -17.141472588293254,
  "spatialReference": {
   "wkid": 4674,
   "latestWkid": 4674
  }
 },
 "fullExtent": {
  "xmin": -58.193492925961486,
  "ymin": -24.09344474066566,
  "xmax": -50.89791517740843,
  "ymax": -17.141472588293254,
  "spatialReference": {
   "wkid": 4674,
   "latestWkid": 4674
  }
 },
 "sortableFields": "",
 "bandCount": 5,
 "pixelType": "S16",
 "minValues": [
  0,
  0,
  0,
  0,
  0
 ],
 "maxValues": [
  18136,
  17216,
  17024,
  16040,
  16472
 ],
 "meanValues": [
  553.8991236187507,
  827.103127508525,
  835.3962027084469,
  2974.5339597087604,
  1896.6021529239997
 ],
 "stdvValues": [
  200.08981376534817,
  235.17108620896684,
  443.0165972797082,
  645.2171430138734,
  910.9575980270471
 ],
 "serviceProperties": "Center<\/MosaicMethod>First<\/MosaicOperator>true<\/SortAscending><\/LockImageID><\/TileOrderField>0<\/TileOrderBase>0.000000<\/AvgImageSpacingX>0.000000<\/AvgImageSpacingY>0.0<\/ViewPointX>0.0<\/ViewPointY>0.0<\/ViewPointDefShiftX>0.0<\/ViewPointDefShiftY>None<\/CompressionMethod>75<\/CompressionQuality>0.010000<\/CompressionTolerance>Bilinear<\/SamplingMethod><\/ImageServiceProperties><\/ImageServer>",
 "allowedFields": "",
 "hasMultidimensions": false,
 "pixelSizeX": 8.983152841324227E-5,
 "pixelSizeY": 8.983152841324227E-5,
 "meanPixelSize": 10.000000000143615,
 "datasetFormat": "FGDBR",
 "uncompressedSize": 62850702460,
 "blockWidth": 128,
 "blockHeight": 128,
 "compressionType": "LZ77",
 "bandNames": [
  "Band_1",
  "Band_2",
  "Band_3",
  "Band_4",
  "Band_5"
 ],
 "allowCopy": true,
 "allowAnalysis": true,
 "itemAccess": false,
 "inspectionCapabilities": "",
 "minPixelSize": 0,
 "maxPixelSize": 0,
 "copyrightText": "",
 "serviceDataType": "esriImageServiceDataTypeGeneric",
 "serviceSourceType": "esriImageServiceSourceTypeDataset",
 "objectIdField": "",
 "fields": [],
 "capabilities": "Image,Metadata,Mensuration",
 "defaultMosaicMethod": "Center",
 "allowedMosaicMethods": "",
 "sortField": "",
 "sortValue": null,
 "sortAscending": true,
 "mosaicOperator": "First",
 "defaultCompressionQuality": 75,
 "defaultResamplingMethod": "Bilinear",
 "maxImageHeight": 4100,
 "maxImageWidth": 15000,
 "allowRasterFunction": true,
 "rasterFunctionInfos": [
  {
   "name": "rft_sentinel2_4T",
   "description": "rft_sentinel",
   "help": ""
  },
  {
   "name": "rft_rgb483_grf",
   "description": "RGB342_in_arcgispro_RGB483_true",
   "help": ""
  },
  {
   "name": "None",
   "description": "",
   "help": ""
  }
 ],
 "rasterTypeInfos": [
  {
   "name": "Raster Dataset",
   "description": "Supports all ArcGIS Raster Datasets",
   "help": ""
  }
 ],
 "mensurationCapabilities": "Basic",
 "hasHistograms": true,
 "hasColormap": false,
 "hasRasterAttributeTable": false,
 "minScale": 0,
 "maxScale": 0,
 "exportTilesAllowed": false,
 "supportsStatistics": false,
 "supportsAdvancedQueries": false,
 "editFieldsInfo": null,
 "ownershipBasedAccessControlForRasters": null,
 "allowComputeTiePoints": false,
 "useStandardizedQueries": true,
 "advancedQueryCapabilities": {
  "useStandardizedQueries": true,
  "supportsStatistics": false,
  "supportsOrderBy": false,
  "supportsDistinct": false,
  "supportsPagination": false
 },
 "spatialReference": {
  "wkid": 4674,
  "latestWkid": 4674
 }
}
