<?xml version="1.0" encoding="UTF-8" standalone="no"?>
<metadata xml:lang="pt">
  <Esri>
    <CreaDate>20250805</CreaDate>
    <CreaTime>13130600</CreaTime>
    <ArcGISFormat>1.0</ArcGISFormat>
    <SyncOnce>FALSE</SyncOnce>
    <DataProperties>
      <itemProps>
        <itemName Sync="TRUE">Landsat_5_antes_2008_upscaling8x_v2</itemName>
        <imsContentType Sync="TRUE">002</imsContentType>
        <nativeExtBox>
          <westBL Sync="TRUE">-58.207215</westBL>
          <eastBL Sync="TRUE">-50.728860</eastBL>
          <southBL Sync="TRUE">-24.097597</southBL>
          <northBL Sync="TRUE">-17.075559</northBL>
          <exTypeCode Sync="TRUE">1</exTypeCode>
        </nativeExtBox>
        <itemLocation>
          <linkage Sync="TRUE">file://\\s1636\Repositorio\LandSat\LandSat_Imasul.gdb</linkage>
          <protocol Sync="TRUE">Local Area Network</protocol>
        </itemLocation>
      </itemProps>
      <coordRef>
        <type Sync="TRUE">Geographic</type>
        <geogcsn Sync="TRUE">GCS_WGS_1984</geogcsn>
        <csUnits Sync="TRUE">Angular Unit: Degree (0.017453)</csUnits>
        <peXml Sync="TRUE">&lt;GeographicCoordinateSystem xsi:type='typens:GeographicCoordinateSystem' xmlns:xsi='http://www.w3.org/2001/XMLSchema-instance' xmlns:xs='http://www.w3.org/2001/XMLSchema' xmlns:typens='http://www.esri.com/schemas/ArcGIS/2.8.0'&gt;&lt;WKT&gt;GEOGCS[&amp;quot;GCS_WGS_1984&amp;quot;,DATUM[&amp;quot;D_WGS_1984&amp;quot;,SPHEROID[&amp;quot;WGS_1984&amp;quot;,6378137.0,298.257223563]],PRIMEM[&amp;quot;Greenwich&amp;quot;,0.0],UNIT[&amp;quot;Degree&amp;quot;,0.0174532925199433],AUTHORITY[&amp;quot;EPSG&amp;quot;,4326]]&lt;/WKT&gt;&lt;XOrigin&gt;-400&lt;/XOrigin&gt;&lt;YOrigin&gt;-400&lt;/YOrigin&gt;&lt;XYScale&gt;11258999068426.238&lt;/XYScale&gt;&lt;ZOrigin&gt;-100000&lt;/ZOrigin&gt;&lt;ZScale&gt;10000&lt;/ZScale&gt;&lt;MOrigin&gt;-100000&lt;/MOrigin&gt;&lt;MScale&gt;10000&lt;/MScale&gt;&lt;XYTolerance&gt;8.983152841195215e-09&lt;/XYTolerance&gt;&lt;ZTolerance&gt;0.001&lt;/ZTolerance&gt;&lt;MTolerance&gt;0.001&lt;/MTolerance&gt;&lt;HighPrecision&gt;true&lt;/HighPrecision&gt;&lt;LeftLongitude&gt;-180&lt;/LeftLongitude&gt;&lt;WKID&gt;4326&lt;/WKID&gt;&lt;LatestWKID&gt;4326&lt;/LatestWKID&gt;&lt;/GeographicCoordinateSystem&gt;</peXml>
      </coordRef>
      <lineage>
        <Process Date="20250805" Time="131307" ToolSource="c:\program files\arcgis\pro\Resources\ArcToolbox\toolboxes\Data Management Tools.tbx\CopyRaster">CopyRaster C:\mosaicos\mosaico_Land_5_30m_uint8_MS_antes_2008_TC_upscaling8x_clip_res_cubic_4x4_wgs84.tiff Z:\LandSat\LandSat_Imasul.gdb\Landsat_5_antes_2008_upscaling8x_v2 # # 256 NONE NONE "8 bit unsigned" NONE NONE "Esri Grid format" NONE CURRENT_SLICE NO_TRANSPOSE</Process>
      </lineage>
    </DataProperties>
    <SyncDate>20250805</SyncDate>
    <SyncTime>13130600</SyncTime>
    <ModDate>20250805</ModDate>
    <ModTime>13130600</ModTime>
  </Esri>
  <dataIdInfo>
    <envirDesc Sync="TRUE">Microsoft Windows 10 Version 10.0 (Build 22631) ; Esri ArcGIS 12.8.0.29751</envirDesc>
    <dataLang>
      <languageCode Sync="TRUE" value="por"/>
      <countryCode Sync="TRUE" value="BRA"/>
    </dataLang>
    <idCitation>
      <resTitle Sync="TRUE">Landsat_5_antes_2008_upscaling8x_v2</resTitle>
      <presForm>
        <PresFormCd Sync="TRUE" value="011"/>
      </presForm>
    </idCitation>
    <spatRpType>
      <SpatRepTypCd Sync="TRUE" value="002"/>
    </spatRpType>
    <dataExt>
      <geoEle>
        <GeoBndBox esriExtentType="search">
          <exTypeCode Sync="TRUE">1</exTypeCode>
          <westBL Sync="TRUE">-58.207215</westBL>
          <eastBL Sync="TRUE">-50.728860</eastBL>
          <northBL Sync="TRUE">-17.075559</northBL>
          <southBL Sync="TRUE">-24.097597</southBL>
        </GeoBndBox>
      </geoEle>
    </dataExt>
    <idAbs/>
    <searchKeys>
      <keyword>IMASUL</keyword>
      <keyword>GCF</keyword>
      <keyword>UNIGEO</keyword>
    </searchKeys>
    <idPurp>Landsat_5_antes_2008_upscaling8x_v2</idPurp>
    <idCredit/>
    <resConst>
      <Consts>
        <useLimit/>
      </Consts>
    </resConst>
  </dataIdInfo>
  <mdLang>
    <languageCode Sync="TRUE" value="por"/>
    <countryCode Sync="TRUE" value="BRA"/>
  </mdLang>
  <distInfo>
    <distFormat>
      <formatName Sync="TRUE">File Geodatabase Raster Dataset</formatName>
    </distFormat>
  </distInfo>
  <mdHrLv>
    <ScopeCd Sync="TRUE" value="005"/>
  </mdHrLv>
  <mdHrLvName Sync="TRUE">dataset</mdHrLvName>
  <refSysInfo>
    <RefSystem>
      <refSysID>
        <identCode Sync="TRUE" code="4326"/>
        <idCodeSpace Sync="TRUE">EPSG</idCodeSpace>
        <idVersion Sync="TRUE">6.2(3.0.1)</idVersion>
      </refSysID>
    </RefSystem>
  </refSysInfo>
  <spdoinfo>
    <rastinfo>
      <rasttype Sync="TRUE">Pixel</rasttype>
      <rowcount Sync="TRUE">200958</rowcount>
      <colcount Sync="TRUE">214017</colcount>
      <rastxsz Sync="TRUE">0,000035</rastxsz>
      <rastysz Sync="TRUE">0,000035</rastysz>
      <rastbpp Sync="TRUE">8</rastbpp>
      <vrtcount Sync="TRUE">1</vrtcount>
      <rastorig Sync="TRUE">Upper Left</rastorig>
      <rastcmap Sync="TRUE">FALSE</rastcmap>
      <rastcomp Sync="TRUE">LZ77</rastcomp>
      <rastband Sync="TRUE">3</rastband>
      <rastdtyp Sync="TRUE">pixel codes</rastdtyp>
      <rastifor Sync="TRUE">FGDBR</rastifor>
      <rastplyr Sync="TRUE">TRUE</rastplyr>
    </rastinfo>
  </spdoinfo>
  <spref>
    <horizsys>
      <planar>
        <planci>
          <plance Sync="TRUE">row and column</plance>
          <coordrep>
            <absres Sync="TRUE">0,000035</absres>
            <ordres Sync="TRUE">0,000035</ordres>
          </coordrep>
        </planci>
      </planar>
    </horizsys>
  </spref>
  <mdDateSt Sync="TRUE">20250805</mdDateSt>
</metadata>
