{
 "currentVersion": 11.5,
 "serviceDescription": "IMASUL/Krigagem_qmlp",
 "serviceItemId": "6359700231134e0b81c962e879c40d15",
 "name": "IMASUL/Krigagem_qmlp",
 "description": "",
 "extent": {
  "xmin": -58.166933026938,
  "ymin": -24.067238504853,
  "xmax": -51.46718480293799,
  "ymax": -17.207336936852997,
  "spatialReference": {
   "wkid": 4674,
   "latestWkid": 4674
  }
 },
 "initialExtent": {
  "xmin": -58.166933026938,
  "ymin": -24.067238504853,
  "xmax": -51.46718480293799,
  "ymax": -17.207336936852997,
  "spatialReference": {
   "wkid": 4674,
   "latestWkid": 4674
  }
 },
 "fullExtent": {
  "xmin": -58.166933026938,
  "ymin": -24.067238504853,
  "xmax": -51.46718480293799,
  "ymax": -17.207336936852997,
  "spatialReference": {
   "wkid": 4674,
   "latestWkid": 4674
  }
 },
 "sortableFields": "",
 "bandCount": 1,
 "pixelType": "F32",
 "minValues": [
  4.1803684234619
 ],
 "maxValues": [
  22.519100189209
 ],
 "meanValues": [
  12.194807505891
 ],
 "stdvValues": [
  3.9562312047235
 ],
 "serviceProperties": "Center<\/MosaicMethod>First<\/MosaicOperator>true<\/SortAscending><\/LockImageID><\/TileOrderField>0<\/TileOrderBase>0.000000<\/AvgImageSpacingX>0.000000<\/AvgImageSpacingY>0.0<\/ViewPointX>0.0<\/ViewPointY>0.0<\/ViewPointDefShiftX>0.0<\/ViewPointDefShiftY>None<\/CompressionMethod>75<\/CompressionQuality>0.010000<\/CompressionTolerance>Bilinear<\/SamplingMethod><\/ImageServiceProperties><\/ImageServer>",
 "allowedFields": "",
 "hasMultidimensions": false,
 "pixelSizeX": 0.026692224000000014,
 "pixelSizeY": 0.02669222400000002,
 "meanPixelSize": 2971.3647838199977,
 "datasetFormat": "TIFF",
 "uncompressedSize": 258028,
 "blockWidth": 128,
 "blockHeight": 128,
 "compressionType": "LZW",
 "bandNames": [
  "Band_1"
 ],
 "allowCopy": true,
 "allowAnalysis": true,
 "itemAccess": false,
 "inspectionCapabilities": "",
 "noDataValue": -3.4028234663852886E38,
 "noDataValues": [
  -3.4028234663852886E38
 ],
 "minPixelSize": 0,
 "maxPixelSize": 0,
 "copyrightText": "",
 "serviceDataType": "esriImageServiceDataTypeGeneric",
 "serviceSourceType": "esriImageServiceSourceTypeDataset",
 "objectIdField": "",
 "fields": [],
 "capabilities": "Mensuration,Image,Metadata",
 "defaultMosaicMethod": "Center",
 "allowedMosaicMethods": "",
 "sortField": "",
 "sortValue": null,
 "sortAscending": true,
 "mosaicOperator": "First",
 "defaultCompressionQuality": 75,
 "defaultResamplingMethod": "Bilinear",
 "maxImageHeight": 4100,
 "maxImageWidth": 15000,
 "allowRasterFunction": true,
 "rasterFunctionInfos": [
  {
   "name": "None",
   "description": "",
   "help": ""
  }
 ],
 "rasterTypeInfos": [
  {
   "name": "Raster Dataset",
   "description": "Supports all ArcGIS Raster Datasets",
   "help": ""
  }
 ],
 "mensurationCapabilities": "Basic",
 "hasHistograms": true,
 "hasColormap": false,
 "hasRasterAttributeTable": false,
 "minScale": 0,
 "maxScale": 0,
 "exportTilesAllowed": false,
 "supportsStatistics": false,
 "supportsAdvancedQueries": false,
 "editFieldsInfo": null,
 "ownershipBasedAccessControlForRasters": null,
 "allowComputeTiePoints": false,
 "useStandardizedQueries": true,
 "advancedQueryCapabilities": {
  "useStandardizedQueries": true,
  "supportsStatistics": false,
  "supportsOrderBy": false,
  "supportsDistinct": false,
  "supportsPagination": false
 },
 "spatialReference": {
  "wkid": 4674,
  "latestWkid": 4674
 },
 "resampling": false
}
